BEGIN:VCALENDAR
VERSION:2.0
PRODID:-//Keramiek Atelier Mirjam van Sluijs - ECPv6.15.20//NONSGML v1.0//EN
CALSCALE:GREGORIAN
METHOD:PUBLISH
X-WR-CALNAME:Keramiek Atelier Mirjam van Sluijs
X-ORIGINAL-URL:https://mirjamvansluijs.nl
X-WR-CALDESC:Evenementen voor Keramiek Atelier Mirjam van Sluijs
REFRESH-INTERVAL;VALUE=DURATION:PT1H
X-Robots-Tag:noindex
X-PUBLISHED-TTL:PT1H
BEGIN:VTIMEZONE
TZID:Europe/Amsterdam
BEGIN:DAYLIGHT
TZOFFSETFROM:+0100
TZOFFSETTO:+0200
TZNAME:CEST
DTSTART:20250330T010000
END:DAYLIGHT
BEGIN:STANDARD
TZOFFSETFROM:+0200
TZOFFSETTO:+0100
TZNAME:CET
DTSTART:20251026T010000
END:STANDARD
BEGIN:DAYLIGHT
TZOFFSETFROM:+0100
TZOFFSETTO:+0200
TZNAME:CEST
DTSTART:20260329T010000
END:DAYLIGHT
BEGIN:STANDARD
TZOFFSETFROM:+0200
TZOFFSETTO:+0100
TZNAME:CET
DTSTART:20261025T010000
END:STANDARD
BEGIN:DAYLIGHT
TZOFFSETFROM:+0100
TZOFFSETTO:+0200
TZNAME:CEST
DTSTART:20270328T010000
END:DAYLIGHT
BEGIN:STANDARD
TZOFFSETFROM:+0200
TZOFFSETTO:+0100
TZNAME:CET
DTSTART:20271031T010000
END:STANDARD
END:VTIMEZONE
BEGIN:VEVENT
DTSTART;TZID=Europe/Amsterdam:20260517T130000
DTEND;TZID=Europe/Amsterdam:20260531T153000
DTSTAMP:20260421T185135
CREATED:20251110T083831Z
LAST-MODIFIED:20260130T091746Z
UID:596-1779022800-1780241400@mirjamvansluijs.nl
SUMMARY:Workshop Schattenkastjes
DESCRIPTION:Schattenkastjes/altaartjes/heilige huisjes\nTijdens deze workshop maak je je eigen persoonlijke altaartje\, heilig huisje of schattenkastje. Je bouwt het op van platen klei en je kan zelf bepalen of er plankjes\, vakjes of geheime laatjes inkomen. Ook kan je elementen en versieringen toevoegen die voor jou betekenis hebben of die je gewoon mooi vindt. \nDe eerste middag van de workshop maak je het altaartje\, heilig huisje of schattenkastje. Daarna wordt het gedroogd en voor de eerste keer gebakken. \nDe tweede middag van de workshop ga je je werk glazuren en wordt het nog een keer gestookt in de keramiekoven. Zodra dat klaar is kan je je eigen altaartje\, heilig huisje of schattenkastje op komen halen en inwijden! \nDuur:\n2 bijeenkomsten van 2\,5 uur. \nData:\nzondag 17 en 31 mei 2026 \nTijd:\n13.00- 15.30 uur \nPlaats:\nKeramiekatelier Mirjam van Sluijs\, Kleverskerkseweg 13\, Middelburg \nKosten:\n€110\,00 inclusief btw\, materiaal en 2 keer stoken\, koffie\, thee en iets lekkers. \nOpgeven:\nvia mail info@mirjamvansluijs.nl of telefonisch\, ook voor extra informatie.
URL:https://mirjamvansluijs.nl/agenda/workshop-schattenkastjes/
LOCATION:Keramiek studio\, Kleverskerkseweg 13\, Middelburg
CATEGORIES:Workshop keramiek in Middelburg
ATTACH;FMTTYPE=image/jpeg:https://mirjamvansluijs.nl/wp-content/uploads/2024/11/workshop-altaartjes-keramiek-01.jpg
END:VEVENT
BEGIN:VEVENT
DTSTART;TZID=Europe/Amsterdam:20260614T130000
DTEND;TZID=Europe/Amsterdam:20260628T153000
DTSTAMP:20260421T185135
CREATED:20250326T112831Z
LAST-MODIFIED:20260130T091536Z
UID:577-1781442000-1782660600@mirjamvansluijs.nl
SUMMARY:Workshop Tuinkeramiek
DESCRIPTION:Duur:\n2 bijeenkomsten van 2\,5 uur \nData:\nzondag 14 juni en zondag 28 juni 2026 \nTijd:\n13:00-15:30 uur \nPlaats:\nKeramiekatelier Mirjam van Sluijs\, Kleverskerkseweg 13\, Middelburg \nKosten: \n€110\,- inclusief btw\, materialen\, stookkosten en koffie en thee. \nOpgeven:\nOpgeven en voor meer info: mail of telefoon.\nPlaats is gereserveerd na betaling.\n\nDeze workshop bestaat uit twee dagdelen. De eerste keer beginnen we met het maken van een grote bloem en vervolgens\, met de geleerde techniek \, maak je iets naar keuze waar je tuin van gaat stralen! \nJe kan kiezen voor meerdere bloemen maken maar bijvoorbeeld ook voor een heksenmuts \, een vogelvoederschaal of tuinstekers. Er zijn voorbeelden genoeg in het atelier en eigen ideeën zijn zeker ook welkom! \nNa het drogen en de eerste stook\, gaan we de tweede keer alle werkstukken glazuren. Daarna gaan ze nog een keer de oven in voor de glazuurstook. Als je werk klaar is\, geef ik een seintje en mag je het opkomen halen. \nVoorkennis is niet nodig.
URL:https://mirjamvansluijs.nl/agenda/workshop-tuinkeramiek-3/
LOCATION:Keramiek studio\, Kleverskerkseweg 13\, Middelburg
CATEGORIES:Workshop keramiek in Middelburg
ATTACH;FMTTYPE=image/jpeg:https://mirjamvansluijs.nl/wp-content/uploads/2024/11/workshop-tuinkeramiek-bloemen.jpg
END:VEVENT
END:VCALENDAR