BEGIN:VCALENDAR
VERSION:2.0
PRODID:-//Keramiek Atelier Mirjam van Sluijs - ECPv6.15.20//NONSGML v1.0//EN
CALSCALE:GREGORIAN
METHOD:PUBLISH
X-WR-CALNAME:Keramiek Atelier Mirjam van Sluijs
X-ORIGINAL-URL:https://mirjamvansluijs.nl
X-WR-CALDESC:Evenementen voor Keramiek Atelier Mirjam van Sluijs
REFRESH-INTERVAL;VALUE=DURATION:PT1H
X-Robots-Tag:noindex
X-PUBLISHED-TTL:PT1H
BEGIN:VTIMEZONE
TZID:Europe/Amsterdam
BEGIN:DAYLIGHT
TZOFFSETFROM:+0100
TZOFFSETTO:+0200
TZNAME:CEST
DTSTART:20230326T010000
END:DAYLIGHT
BEGIN:STANDARD
TZOFFSETFROM:+0200
TZOFFSETTO:+0100
TZNAME:CET
DTSTART:20231029T010000
END:STANDARD
BEGIN:DAYLIGHT
TZOFFSETFROM:+0100
TZOFFSETTO:+0200
TZNAME:CEST
DTSTART:20240331T010000
END:DAYLIGHT
BEGIN:STANDARD
TZOFFSETFROM:+0200
TZOFFSETTO:+0100
TZNAME:CET
DTSTART:20241027T010000
END:STANDARD
BEGIN:DAYLIGHT
TZOFFSETFROM:+0100
TZOFFSETTO:+0200
TZNAME:CEST
DTSTART:20250330T010000
END:DAYLIGHT
BEGIN:STANDARD
TZOFFSETFROM:+0200
TZOFFSETTO:+0100
TZNAME:CET
DTSTART:20251026T010000
END:STANDARD
BEGIN:DAYLIGHT
TZOFFSETFROM:+0100
TZOFFSETTO:+0200
TZNAME:CEST
DTSTART:20260329T010000
END:DAYLIGHT
BEGIN:STANDARD
TZOFFSETFROM:+0200
TZOFFSETTO:+0100
TZNAME:CET
DTSTART:20261025T010000
END:STANDARD
END:VTIMEZONE
BEGIN:VEVENT
DTSTART;TZID=Europe/Amsterdam:20250506T083000
DTEND;TZID=Europe/Amsterdam:20250520T120000
DTSTAMP:20260421T050430
CREATED:20241126T105817Z
LAST-MODIFIED:20250326T112734Z
UID:454-1746520200-1747742400@mirjamvansluijs.nl
SUMMARY:Workshop Tuinkeramiek
DESCRIPTION:Duur:\n2 bijeenkomsten van 2\,5 uur \nData:\n06 mei en 20 mei 2025 \nTijd:\n13:00-15:30 uur \nPlaats:\nKeramiekatelier Mirjam van Sluijs\, Kleverskerkseweg 13\, Middelburg \nKosten: \n€95\,- inclusief materialen\, stookkosten en koffie en thee. \nOpgeven:\nOpgeven en voor meer info: mail of telefoon.\nPlaats is gereserveerd na betaling.\n\nDeze workshop bestaat uit twee dagdelen. De eerste keer beginnen we met het maken van een grote bloem en vervolgens\, met de geleerde techniek \, maak je iets naar keuze waar je tuin van gaat stralen! \nJe kan kiezen voor meerdere bloemen maken maar bijvoorbeeld ook voor een heksenmuts \, een vogelvoederschaal of tuinstekers. Er zijn voorbeelden genoeg in het atelier en eigen ideeën zijn zeker ook welkom! \nNa het drogen en de eerste stook\, gaan we de tweede keer alle werkstukken glazuren. Daarna gaan ze nog een keer de oven in voor de glazuurstook. Als je werk klaar is\, geef ik een seintje en mag je het opkomen halen. \nVoorkennis is niet nodig.
URL:https://mirjamvansluijs.nl/agenda/workshop-tuinkeramiek/
LOCATION:Keramiek studio\, Kleverskerkseweg 13\, Middelburg
CATEGORIES:Workshop keramiek in Middelburg
ATTACH;FMTTYPE=image/jpeg:https://mirjamvansluijs.nl/wp-content/uploads/2024/11/workshop-tuinkeramiek-bloemen.jpg
END:VEVENT
BEGIN:VEVENT
DTSTART;TZID=Europe/Amsterdam:20250319T083000
DTEND;TZID=Europe/Amsterdam:20250402T120000
DTSTAMP:20260421T050430
CREATED:20241126T104144Z
LAST-MODIFIED:20250220T160803Z
UID:444-1742373000-1743595200@mirjamvansluijs.nl
SUMMARY:Workshop Tuinkeramiek
DESCRIPTION:Duur:\n2 bijeenkomsten van 2\,5 uur \nData:\n19 maart en 2 april 2025 \nTijd:\n9.30-12.00 uur \nPlaats:\nKeramiekatelier Mirjam van Sluijs\, Kleverskerkseweg 13\, Middelburg \nKosten: \n€65\,- Materiaal en stookkosten en koffie/thee €20\,00  (Contant bij aanvang van de cursus aan de docente betalen) \nOpgeven:\nDeze workshop wordt aangeboden via de Zeeuwse volksuniversiteit. Je kan je aanmelden via hun website; www.zeeuwsevolksuniversiteit.nl \nDeze workshop bestaat uit twee dagdelen. De eerste keer beginnen we met het maken van een grote bloem en vervolgens\, met de geleerde techniek \, maak je iets naar keuze waar je tuin van gaat stralen! \nJe kan kiezen voor meerdere bloemen maken maar bijvoorbeeld ook voor een heksenmuts \, een vogelvoederschaal of tuinstekers. Er zijn voorbeelden genoeg in het atelier en eigen ideeën zijn zeker ook welkom! \nNa het drogen en de eerste stook\, gaan we de tweede keer alle werkstukken glazuren. Daarna gaan ze nog een keer de oven in voor de glazuurstook. Als je werk klaar is\, geef ik een seintje en mag je het opkomen halen. \nVoorkennis is niet nodig.
URL:https://mirjamvansluijs.nl/agenda/workshop-tuinkeramiek-2/
LOCATION:Keramiek studio\, Kleverskerkseweg 13\, Middelburg
CATEGORIES:Workshop keramiek in Middelburg
ATTACH;FMTTYPE=image/jpeg:https://mirjamvansluijs.nl/wp-content/uploads/2024/11/workshop-tuinkeramiek-bloemen.jpg
END:VEVENT
BEGIN:VEVENT
DTSTART;TZID=Europe/Amsterdam:20250204T133000
DTEND;TZID=Europe/Amsterdam:20250318T160000
DTSTAMP:20260421T050430
CREATED:20241024T144646Z
LAST-MODIFIED:20241127T134307Z
UID:316-1738675800-1742313600@mirjamvansluijs.nl
SUMMARY:Basiscursus Handopbouw-technieken keramiek
DESCRIPTION:Duur:\n7 bijeenkomsten van 2\,5 uur \nAanvang:\nDinsdag 4 februari 2025 \nTijd:\n13:30-16:00 uur \nCursusplaats:\nKeramiekatelier Mirjam van Sluijs\, Kleverskerkseweg 13\, Middelburg \nCursusgeld:\n€ 220\,00 donateurs Zeeuwse Volksuniversiteit /  240\,00\nMateriaal- en stookkosten en koffie/thee €70\,- (contant bij aanvang van de cursus aan de docente betalen) \nOpgeven:\nDeze cursus wordt aangeboden via de Zeeuwse Volksuniversiteit. Op geven kunt u hiervoor via hun site: www.zeeuwsevolksuniversiteit.nl.  \nIn deze cursus leer je diverse basistechnieken van het werken met klei. \nAan bod komen verschillende soorten en kleuren klei en het bewerken en afwerken van de werkstukken met glazuren en gekleurde klei-slibs. \nElke les behandelen we een andere techniek en klei-soort en binnen elke opdracht is er zeker ruimte voor je eigen creativiteit! \nNa de cursus heb je een goede basis en kan je doorstromen naar een van de groepen “Vrij werken met klei” . \nErvaring is niet nodig.
URL:https://mirjamvansluijs.nl/agenda/basiscursus-handopbouw-technieken-keramiek/
LOCATION:Keramiek studio\, Kleverskerkseweg 13\, Middelburg
CATEGORIES:Keramiekcursus handopbouwtechnieken
ATTACH;FMTTYPE=image/jpeg:https://mirjamvansluijs.nl/wp-content/uploads/2024/10/keramiekcursus-tekst-mirjamvandersluijs.jpg
END:VEVENT
BEGIN:VEVENT
DTSTART;TZID=Europe/Amsterdam:20250111T133000
DTEND;TZID=Europe/Amsterdam:20250125T160000
DTSTAMP:20260421T050430
CREATED:20241126T103959Z
LAST-MODIFIED:20241127T160412Z
UID:442-1736602200-1737820800@mirjamvansluijs.nl
SUMMARY:Workshop Schatten van de zee en klei
DESCRIPTION:SCHATTEN VAN DE ZEE\nschattendoosjes en zeeschalen \nLaat je inspireren door de schatten van de zee en klei ermee! Je maakt een schattendoosje en een zeeschaal. Het doosje maak je met een deksel van een schelp\, een steen of een mooi aangespoeld houtje. In vorm en kleur kan je je laten inspireren door jou schat uit de zee. Vervolgens maken we een schaal met afdrukken van schelpen en koralen\, eventueel met een zee-gedicht. \nDe hand-opbouwtechnieken in de klei die we hierbij gebruiken zijn eenvoudig en leer je in 1 keer. Na het maken worden de  werkstukken gedroogd en voor de eerste keer gebakken. \nHet tweede dagdeel gaan we de werkstukken glazuren en gaan ze nog een keer de oven in. Na de stook kan je je schattendoosje en schaal komen ophalen. \nMeenemen: een eigen vondst uit de natuur; schelp\, steen of houtje  en eventueel een zee-gedicht (heb je geen schelp\, steen of houtje voor handen mag je er 1 uit mijn collectie kiezen). \nTer inspiratie een gedichtje van mijn tante Johanna Kruit; \n“de golven dragen\nzoveel schatten naar de kust\nik bouw een altaar\nvan de schelpen die ik vind\nvan de woorden die je zei” \nJohanna Kruit \nDuur:\n2 bijeenkomsten van 2\,5 uur \nData:\n11-01-2025 en 25-01-2025 \nTijd:\n13.30 tot 16.00 uur \nPlaats:\nKeramiekatelier Mirjam van Sluijs\, Kleverskerkseweg 13\, Middelburg (gratis parkeren voor de deur). \n     
URL:https://mirjamvansluijs.nl/agenda/basiscursus-schatten-van-de-zee-en-klei/
LOCATION:Keramiek studio\, Kleverskerkseweg 13\, Middelburg
CATEGORIES:Workshop keramiek in Middelburg
ATTACH;FMTTYPE=image/jpeg:https://mirjamvansluijs.nl/wp-content/uploads/2024/11/workshop-schatten-van-de-zee-keramiek-01.jpg
END:VEVENT
BEGIN:VEVENT
DTSTART;TZID=Europe/Amsterdam:20241126T000000
DTEND;TZID=Europe/Amsterdam:20241126T112520
DTSTAMP:20260421T050430
CREATED:20241111T100048Z
LAST-MODIFIED:20241126T112520Z
UID:382-1732579200-1732620320@mirjamvansluijs.nl
SUMMARY:Workshop op aanvraag
DESCRIPTION:Wil je zelf met een groepje vrienden\, familie of collega’s een workshop keramiek volgen en ook zelf bepalen wat jullie dan gaan maken? \nDat kan! Limiet is dat het haalbaar moet zijn in 2 dagdelen; 1 dagdeel maken met de handen in de klei en het andere dagdeel afwerken/glazuren. \nDuur:\n2 bijeenkomsten van 2\,5 uur \nData:\nIn overleg\, kan ook in het weekend of op een avond \nPlaats:\nKeramiekatelier Mirjam van Sluijs\, Kleverskerkseweg 13\, Middelburg \nKosten: \n€95\,- per persoon inclusief klei\, glazuren\, stookkosten\, koffie\, thee en iets lekkers. \nAantal deelnemers:\nMinimaal 5\, maximaal 6 \n 
URL:https://mirjamvansluijs.nl/agenda/workshop-op-maat/
LOCATION:Keramiek studio\, Kleverskerkseweg 13\, Middelburg
CATEGORIES:Workshop keramiek in Middelburg
ATTACH;FMTTYPE=image/jpeg:https://mirjamvansluijs.nl/wp-content/uploads/2024/11/workshop-opmaat-vaasjes.jpg
END:VEVENT
BEGIN:VEVENT
DTSTART;TZID=Europe/Amsterdam:20241120T083000
DTEND;TZID=Europe/Amsterdam:20241211T120000
DTSTAMP:20260421T050430
CREATED:20241016T074002Z
LAST-MODIFIED:20241127T134317Z
UID:204-1732091400-1733918400@mirjamvansluijs.nl
SUMMARY:Workshop Kerst-bengels en -kadootjes maken van keramiek
DESCRIPTION:Duur: 2 bijeenkomsten van 2\,5 uur \nAanvang: Woensdag 20 november OF Woensdag 27 november \nData: 20 november en 4 december 27 november en 11 december \nTijd: 9.30-12.00 uur \nPlaats: Keramiekatelier Mirjam van Sluijs\, Kleverskerkseweg 13\, Middelburg \nKosten:  €65\,- Materiaal en stookkosten en koffie/thee €20\,00  (Contant bij aanvang van de cursus aan de docente betalen) \nOpgeven Deze workshop wordt aangeboden via de Zeeuwse volksuniversiteit. Je kan je aanmelden via hun website; www.zeeuwsevolksuniversiteit.nl \nDeze workshop bestaat uit 2 dagdelen; de eerste keer maken we de kadootjes van klei en de tweede keer\, na het drogen en de eerste stook\, gaan we de klei-kadootjes glazuren. We beginnen met het maken van een kerstbengel of klokje\, vervolgens maak je iets naar keuze uit plaatmateriaal. Bijvoorbeeld een tapas-schaal\, kaarsenstandaard of hangers voor in de boom. Je maakt het persoonlijk door gebruik te maken van prints\, tekst of tekeningen. In het atelier is er genoeg keuze aan printmateriaal\, letterstempels en uitsteekvormen om helemaal creatief los te gaan! \nMaar neem gerust ook eigen materiaal mee als je dat leuk vindt . \nErvaring is niet nodig.
URL:https://mirjamvansluijs.nl/agenda/test-workshop-02/
LOCATION:Keramiek studio\, Kleverskerkseweg 13\, Middelburg
CATEGORIES:Workshop keramiek in Middelburg
ATTACH;FMTTYPE=image/jpeg:https://mirjamvansluijs.nl/wp-content/uploads/2024/10/kerstworkshop-mirjamvansluijs-800x800-1.jpg
END:VEVENT
BEGIN:VEVENT
DTSTART;TZID=Europe/Amsterdam:20240130T000000
DTEND;TZID=Europe/Amsterdam:20250130T112400
DTSTAMP:20260421T050431
CREATED:20241111T100927Z
LAST-MODIFIED:20260130T092309Z
UID:388-1706572800-1738236240@mirjamvansluijs.nl
SUMMARY:Kadobon workshop
DESCRIPTION:Leuk om te geven en fijn om te krijgen! \nEen kadobon voor een workshop naar keuze van 2 dagdelen. De kadobon komt met een lief kadootje van keramiek gemaakt door mij. \nKosten:\n€110\,- inclusief btw\, klei\, glazuren\,stookkosten\, koffie\, thee en iets lekkers. De bon is een jaar geldig vanaf aankoop.
URL:https://mirjamvansluijs.nl/agenda/kadonbon-workshop/
LOCATION:Keramiek studio\, Kleverskerkseweg 13\, Middelburg
CATEGORIES:Workshop keramiek in Middelburg
ATTACH;FMTTYPE=image/jpeg:https://mirjamvansluijs.nl/wp-content/uploads/2024/11/cadeaubon-keramiekatelier-mirjamvansluijs.jpg
END:VEVENT
END:VCALENDAR